BEGIN:VCALENDAR
VERSION:2.0
PRODID:-// - ECPv6.15.20//NONSGML v1.0//EN
CALSCALE:GREGORIAN
METHOD:PUBLISH
X-ORIGINAL-URL:https://www.model-club-chavanoz.com
X-WR-CALDESC:Évènements pour 
REFRESH-INTERVAL;VALUE=DURATION:PT1H
X-Robots-Tag:noindex
X-PUBLISHED-TTL:PT1H
BEGIN:VTIMEZONE
TZID:Europe/Paris
BEGIN:DAYLIGHT
TZOFFSETFROM:+0100
TZOFFSETTO:+0200
TZNAME:CEST
DTSTART:20180325T010000
END:DAYLIGHT
BEGIN:STANDARD
TZOFFSETFROM:+0200
TZOFFSETTO:+0100
TZNAME:CET
DTSTART:20181028T010000
END:STANDARD
BEGIN:DAYLIGHT
TZOFFSETFROM:+0100
TZOFFSETTO:+0200
TZNAME:CEST
DTSTART:20190331T010000
END:DAYLIGHT
BEGIN:STANDARD
TZOFFSETFROM:+0200
TZOFFSETTO:+0100
TZNAME:CET
DTSTART:20191027T010000
END:STANDARD
BEGIN:DAYLIGHT
TZOFFSETFROM:+0100
TZOFFSETTO:+0200
TZNAME:CEST
DTSTART:20200329T010000
END:DAYLIGHT
BEGIN:STANDARD
TZOFFSETFROM:+0200
TZOFFSETTO:+0100
TZNAME:CET
DTSTART:20201025T010000
END:STANDARD
END:VTIMEZONE
BEGIN:VEVENT
DTSTART;TZID=Europe/Paris:20191116T110000
DTEND;TZID=Europe/Paris:20191116T160000
DTSTAMP:20260421T113529
CREATED:20191114T105042Z
LAST-MODIFIED:20191114T105042Z
UID:5930-1573902000-1573920000@www.model-club-chavanoz.com
SUMMARY:Repas festif du MCC « Saucisson au Beaujolais nouveau »
DESCRIPTION:Le MCC fait son repas annuel du SAUCISSON BEAUJOLAIS préparé par notre président ! \nQuand ?\nLe samedi 16 novembre 2019\, à partir de 11H00\nOù ?\nA la salle Georges MARGUET :\nPlace Charles de Gaulle\, 38230 Chavanoz (sur la place de l’église)\nLien Google Maps : https://goo.gl/maps/UVs4cbh3DsF2 \nTarif ?\n12 euros pour les adhérents du club\, 16 euros pour les parents ou amis. \nATTENTION INSCRIPTIONS AU PLUS TARD le dimanche 10/11\, via le formulaire en ligne dont le lien est donné ci-dessous. \n\nMenu: – Apéritif avec amuses gueules.\n– Assiette saucisson cuit au beaujolais et patates.\n– Fromage.\n– Clémentines. Chocolat.\n– Café. \nLe MCC espère vous voir très nombreux au repas ! \nEddy Salviac\, \nWeb master du MCC
URL:https://www.model-club-chavanoz.com/calendrier/repas-festif-du-mcc-saucisson-au-beaujolais-nouveau/
LOCATION:Salle « Marguet » Chavanoz\, Place du Général De Gaulle\, Chavanoz\, 38230\, France
END:VEVENT
END:VCALENDAR